BEGIN:VCALENDAR
VERSION:2.0
PRODID:-//Tecniverde - ECPv6.0.10//NONSGML v1.0//EN
CALSCALE:GREGORIAN
METHOD:PUBLISH
X-WR-CALNAME:Tecniverde
X-ORIGINAL-URL:https://www.tecniverdesrl.it
X-WR-CALDESC:Eventi per Tecniverde
REFRESH-INTERVAL;VALUE=DURATION:PT1H
X-Robots-Tag:noindex
X-PUBLISHED-TTL:PT1H
BEGIN:VTIMEZONE
TZID:Europe/Rome
BEGIN:DAYLIGHT
TZOFFSETFROM:+0100
TZOFFSETTO:+0200
TZNAME:CEST
DTSTART:20210328T010000
END:DAYLIGHT
BEGIN:STANDARD
TZOFFSETFROM:+0200
TZOFFSETTO:+0100
TZNAME:CET
DTSTART:20211031T010000
END:STANDARD
END:VTIMEZONE
BEGIN:VEVENT
DTSTART;TZID=Europe/Rome:20210702T160000
DTEND;TZID=Europe/Rome:20210702T200000
DTSTAMP:20260423T190759
CREATED:20210702T073652Z
LAST-MODIFIED:20210705T105525Z
UID:3621-1625241600-1625256000@www.tecniverdesrl.it
SUMMARY:PASSIONI TECNIVERDE: COME CONSERVARE ORTAGGI\, VERDURE E FRUTTA DI STAGIONE
DESCRIPTION:Vuoi scoprire tutti i segreti per creare conserve di verdura\, ortaggi e frutta?\nPartecipa all’evento PASSIONI TECNIVERDE! \n👉Ti aspettiamo venerdì 2 luglio! \nProgramma: \n👉Dalle 16:00 alle 18:00 – “Sicurezza alimentare e tecniche su come fare delle conserve di verdure e ortaggi” – in collaborazione con il Dott. Agronomo Pierpaolo Branco e il Dott. Tecnologo alimentare Gianvito Carlino dell’azienda Eurolive – Degustazioni. \n👉Dalle 18:00 alle 20:00 – “Come creare dei deliziosi dolci e confetture con frutta di stagione” – in collaborazione con la Prof.ssa Luana Rollo Docente di Enogastronomia presso l’Istituto Alberghiero Presta Columella di Lecce – Degustazioni. \nc/o Tecniverde via A. Filieri\, 11\, zona artigianale Lequile (Le)\ninfo: 3881019974
URL:https://www.tecniverdesrl.it/evento/passioni-tecniverde-come-conservare-ortaggi-verdure-e-frutta-di-stagione/
LOCATION:via A. Filieri 11  Z.A. Lequile (LE)\, via A. Filieri 11 Z.A.\, Lequile\, Le\, 73010\, Italia
CATEGORIES:Eventi Speciali
ATTACH;FMTTYPE=image/jpeg:https://www.tecniverdesrl.it/wp-content/uploads/2020/09/A3-PASSIONI-TECNIVERDE.jpg
END:VEVENT
END:VCALENDAR