BEGIN:VCALENDAR
VERSION:2.0
PRODID:-//Tecniverde - ECPv6.0.10//NONSGML v1.0//EN
CALSCALE:GREGORIAN
METHOD:PUBLISH
X-ORIGINAL-URL:https://www.tecniverdesrl.it
X-WR-CALDESC:Eventi per Tecniverde
REFRESH-INTERVAL;VALUE=DURATION:PT1H
X-Robots-Tag:noindex
X-PUBLISHED-TTL:PT1H
BEGIN:VTIMEZONE
TZID:Europe/Rome
BEGIN:DAYLIGHT
TZOFFSETFROM:+0100
TZOFFSETTO:+0200
TZNAME:CEST
DTSTART:20210328T010000
END:DAYLIGHT
BEGIN:STANDARD
TZOFFSETFROM:+0200
TZOFFSETTO:+0100
TZNAME:CET
DTSTART:20211031T010000
END:STANDARD
BEGIN:DAYLIGHT
TZOFFSETFROM:+0100
TZOFFSETTO:+0200
TZNAME:CEST
DTSTART:20220327T010000
END:DAYLIGHT
BEGIN:STANDARD
TZOFFSETFROM:+0200
TZOFFSETTO:+0100
TZNAME:CET
DTSTART:20221030T010000
END:STANDARD
END:VTIMEZONE
BEGIN:VEVENT
DTSTART;TZID=Europe/Rome:20210929T080000
DTEND;TZID=Europe/Rome:20210929T200000
DTSTAMP:20260423T202954
CREATED:20210928T174311Z
LAST-MODIFIED:20211022T074218Z
UID:3756-1632902400-1632945600@www.tecniverdesrl.it
SUMMARY:VERMEER WEEK
DESCRIPTION:
URL:https://www.tecniverdesrl.it/evento/vermeer-week/
CATEGORIES:Eventi Speciali
ATTACH;FMTTYPE=image/jpeg:https://www.tecniverdesrl.it/wp-content/uploads/2021/09/grafica-vermeer.jpg
END:VEVENT
BEGIN:VEVENT
DTSTART;TZID=Europe/Rome:20211023T090000
DTEND;TZID=Europe/Rome:20211023T200000
DTSTAMP:20260423T202954
CREATED:20211022T073830Z
LAST-MODIFIED:20211025T105319Z
UID:3770-1634979600-1635019200@www.tecniverdesrl.it
SUMMARY:OPEN DAY SHINDAIWA
DESCRIPTION:
URL:https://www.tecniverdesrl.it/evento/open-day-shindaiwa/
LOCATION:via A. Filieri 11  Z.A. Lequile (LE)\, via A. Filieri 11 Z.A.\, Lequile\, Le\, 73010\, Italia
CATEGORIES:Eventi Speciali
ATTACH;FMTTYPE=image/jpeg:https://www.tecniverdesrl.it/wp-content/uploads/2021/10/Tecniverde_Shindaiwa-23-10_banner-01.jpg
END:VEVENT
BEGIN:VEVENT
DTSTART;TZID=Europe/Rome:20211113T100000
DTEND;TZID=Europe/Rome:20211113T150000
DTSTAMP:20260423T202954
CREATED:20211102T084029Z
LAST-MODIFIED:20211102T084029Z
UID:3791-1636797600-1636815600@www.tecniverdesrl.it
SUMMARY:BARBECUE & BEER EXPERIENCE
DESCRIPTION:
URL:https://www.tecniverdesrl.it/evento/barbecue-beer-experience/
LOCATION:via A. Filieri 11  Z.A. Lequile (LE)\, via A. Filieri 11 Z.A.\, Lequile\, Le\, 73010\, Italia
CATEGORIES:Eventi Speciali
ATTACH;FMTTYPE=image/jpeg:https://www.tecniverdesrl.it/wp-content/uploads/2021/11/IMG-20211019-WA0036.jpg
END:VEVENT
BEGIN:VEVENT
DTSTART;TZID=Europe/Rome:20220520T080000
DTEND;TZID=Europe/Rome:20220520T200000
DTSTAMP:20260423T202954
CREATED:20220608T083524Z
LAST-MODIFIED:20220608T084736Z
UID:3844-1653033600-1653076800@www.tecniverdesrl.it
SUMMARY:GIORNATA MONDIALE DELLE API 20-21 maggio 2022 - Concorso grafico - pittorico Progetto Didattico in collaborazione con l'istituto Compensivo di Lequile
DESCRIPTION:
URL:https://www.tecniverdesrl.it/evento/giornata-mondiale-delle-api-20-21-maggio-2022/
CATEGORIES:Eventi Speciali
ATTACH;FMTTYPE=image/jpeg:https://www.tecniverdesrl.it/wp-content/uploads/2022/06/IMG-20220509-WA0061.jpg
END:VEVENT
END:VCALENDAR